BEGIN:VCALENDAR
VERSION:2.0
METHOD:PUBLISH
PRODID:-//Telerik Inc.//Sitefinity CMS 15.4//EN
BEGIN:VTIMEZONE
TZID:Central Standard Time
BEGIN:STANDARD
DTSTART:20251102T020000
RRULE:FREQ=YEARLY;BYDAY=1SU;BYHOUR=2;BYMINUTE=0;BYMONTH=11
TZNAME:Central Standard Time
TZOFFSETFROM:-0500
TZOFFSETTO:-0600
END:STANDARD
BEGIN:DAYLIGHT
DTSTART:20250301T020000
RRULE:FREQ=YEARLY;BYDAY=2SU;BYHOUR=2;BYMINUTE=0;BYMONTH=3
TZNAME:Central Daylight Time
TZOFFSETFROM:-0600
TZOFFSETTO:-0500
END:DAYLIGHT
END:VTIMEZONE
BEGIN:VEVENT
DESCRIPTION:This webinar will provide an overview of the online Master of S
 cience in Management (iMSM) program. Meet with the University of Illinois 
 Gies Recruitment and Admission team to learn more about the interactive cu
 rriculum featured in this one-year degree. We will explore the student exp
 erience and career outcomes students are able to achieve with graduate bus
 iness education from Gies College of Business.I'm interested!
DTEND:20260512T230000Z
DTSTAMP:20260422T185257Z
DTSTART:20260512T220000Z
LOCATION:
SEQUENCE:0
SUMMARY:iDegree Webinar: iMSM
UID:RFCALITEM639124627770736816
X-ALT-DESC;FMTTYPE=text/html:<p>This webinar will provide an overview of th
 e online Master of Science in Management (iMSM) program. Meet with the Uni
 versity of Illinois Gies Recruitment and Admission team to learn more abou
 t the interactive curriculum featured in this one-year degree. We will exp
 lore the student experience and career outcomes students are able to achie
 ve with graduate business education from Gies College of Business.</p><p><
 a href="https://choose.illinois.edu/register/imsm-webinar-20260512" target
 ="_blank">I'm interested!</a></p>
END:VEVENT
END:VCALENDAR
