BEGIN:VCALENDAR
VERSION:2.0
METHOD:PUBLISH
PRODID:-//Telerik Inc.//Sitefinity CMS 15.4//EN
BEGIN:VTIMEZONE
TZID:Central Standard Time
BEGIN:STANDARD
DTSTART:20251102T020000
RRULE:FREQ=YEARLY;BYDAY=1SU;BYHOUR=2;BYMINUTE=0;BYMONTH=11
TZNAME:Central Standard Time
TZOFFSETFROM:-0500
TZOFFSETTO:-0600
END:STANDARD
BEGIN:DAYLIGHT
DTSTART:20250301T020000
RRULE:FREQ=YEARLY;BYDAY=2SU;BYHOUR=2;BYMINUTE=0;BYMONTH=3
TZNAME:Central Daylight Time
TZOFFSETFROM:-0600
TZOFFSETTO:-0500
END:DAYLIGHT
END:VTIMEZONE
BEGIN:VEVENT
DESCRIPTION:Event Type: Informational\nPlease join us as we share informati
 on about the&nbsp\;Master of Science in Finance&nbsp\;program at Gies Coll
 ege of Business and how you can advance your career in finance with this S
 TEM-designated program.\nContact: Yang pisani\nypisani@illinois.edu\nSpons
 or: MS Finance\nRegistration
DTEND:20210907T213000Z
DTSTAMP:20260422T214611Z
DTSTART:20210907T203000Z
LOCATION:IL\,USA\,Champaign
SEQUENCE:0
SUMMARY:MS Finance Program Information Session
UID:RFCALITEM639124731712918765
X-ALT-DESC;FMTTYPE=text/html:<p class="eventtype"><span class="event-headin
 g eventtype">Event Type:</span> Informational</p>\n<p>Please join us as we
  share information about the&nbsp\;<a href="https://giesbusiness.illinois.
 edu/msf">Master of Science in Finance</a>&nbsp\;program at Gies College of
  Business and how you can advance your career in finance with this STEM-de
 signated program.</p>\n<p class="contact"><span class="event-heading conta
 ct">Contact:</span> Yang pisani<br>\n<a href="mailto:ypisani@illinois.edu"
 >ypisani@illinois.edu</a></p>\n<p class="sponsor"><span class="event-headi
 ng sponsor">Sponsor:</span> MS Finance</p>\n<p class="button orange" style
 ="margin: 10px !important"><a href="https://choose.illinois.edu/register/m
 sfinfosession0907" style="color: rgba(255\, 255\, 255\, 1)">Registration</
 a></p>
END:VEVENT
END:VCALENDAR
